BEGIN:VCALENDAR
VERSION:2.0
PRODID:-//TribeHouse - ECPv6.15.20//NONSGML v1.0//EN
CALSCALE:GREGORIAN
METHOD:PUBLISH
X-WR-CALNAME:TribeHouse
X-ORIGINAL-URL:https://decidetotribe.com
X-WR-CALDESC:Events for TribeHouse
REFRESH-INTERVAL;VALUE=DURATION:PT1H
X-Robots-Tag:noindex
X-PUBLISHED-TTL:PT1H
BEGIN:VTIMEZONE
TZID:UTC
BEGIN:STANDARD
TZOFFSETFROM:+0000
TZOFFSETTO:+0000
TZNAME:UTC
DTSTART:20220101T000000
END:STANDARD
END:VTIMEZONE
BEGIN:VEVENT
DTSTART;TZID=UTC:20230821T160000
DTEND;TZID=UTC:20230821T200000
DTSTAMP:20260421T053819
CREATED:20230802T214113Z
LAST-MODIFIED:20230817T163405Z
UID:2089-1692633600-1692648000@decidetotribe.com
SUMMARY:TribeHouse Splash Summit Party
DESCRIPTION:
URL:https://decidetotribe.com/event/tribehouse-splash-summit-party/
LOCATION:Splash Summit Waterpark\, 1330 300 N\, Provo\, UT\, 84606\, United States
CATEGORIES:Dream Big Tribe,PowerTribes,TechTribe,TribeAngels,Tribes
ATTACH;FMTTYPE=image/jpeg:https://decidetotribe.com/wp-content/uploads/2023/08/Example-Header.jpg
END:VEVENT
END:VCALENDAR