BEGIN:VCALENDAR
VERSION:2.0
PRODID:-//TribeHouse - ECPv6.15.20//NONSGML v1.0//EN
CALSCALE:GREGORIAN
METHOD:PUBLISH
X-ORIGINAL-URL:https://decidetotribe.com
X-WR-CALDESC:Events for TribeHouse
REFRESH-INTERVAL;VALUE=DURATION:PT1H
X-Robots-Tag:noindex
X-PUBLISHED-TTL:PT1H
BEGIN:VTIMEZONE
TZID:America/Denver
BEGIN:DAYLIGHT
TZOFFSETFROM:-0700
TZOFFSETTO:-0600
TZNAME:MDT
DTSTART:20220313T090000
END:DAYLIGHT
BEGIN:STANDARD
TZOFFSETFROM:-0600
TZOFFSETTO:-0700
TZNAME:MST
DTSTART:20221106T080000
END:STANDARD
BEGIN:DAYLIGHT
TZOFFSETFROM:-0700
TZOFFSETTO:-0600
TZNAME:MDT
DTSTART:20230312T090000
END:DAYLIGHT
BEGIN:STANDARD
TZOFFSETFROM:-0600
TZOFFSETTO:-0700
TZNAME:MST
DTSTART:20231105T080000
END:STANDARD
BEGIN:DAYLIGHT
TZOFFSETFROM:-0700
TZOFFSETTO:-0600
TZNAME:MDT
DTSTART:20240310T090000
END:DAYLIGHT
BEGIN:STANDARD
TZOFFSETFROM:-0600
TZOFFSETTO:-0700
TZNAME:MST
DTSTART:20241103T080000
END:STANDARD
BEGIN:DAYLIGHT
TZOFFSETFROM:-0700
TZOFFSETTO:-0600
TZNAME:MDT
DTSTART:20250309T090000
END:DAYLIGHT
BEGIN:STANDARD
TZOFFSETFROM:-0600
TZOFFSETTO:-0700
TZNAME:MST
DTSTART:20251102T080000
END:STANDARD
END:VTIMEZONE
BEGIN:VEVENT
DTSTART;TZID=America/Denver:20240925T090000
DTEND;TZID=America/Denver:20240925T110000
DTSTAMP:20260421T092406
CREATED:20240903T192916Z
LAST-MODIFIED:20240904T174104Z
UID:9230-1727254800-1727262000@decidetotribe.com
SUMMARY:Fall FireTribes Signup
DESCRIPTION:
URL:https://decidetotribe.com/event/fall-firetribes-signup/
LOCATION:TribeHouse\, 1064 S N County Blvd Suite 100\, Pleasant Grove\, UT\, 84062\, United States
CATEGORIES:PowerTribes,TribeX
ATTACH;FMTTYPE=image/jpeg:https://decidetotribe.com/wp-content/uploads/2023/04/Tribe-X-scaled.jpg
ORGANIZER;CN="TribeHouse":MAILTO:events@tribehouse.us
END:VEVENT
BEGIN:VEVENT
DTSTART;TZID=America/Denver:20240911T080000
DTEND;TZID=America/Denver:20240911T100000
DTSTAMP:20260421T092406
CREATED:20240815T162815Z
LAST-MODIFIED:20240815T162815Z
UID:9096-1726041600-1726048800@decidetotribe.com
SUMMARY:September Tribe-X Masters - Exclusive Guest Invite
DESCRIPTION:
URL:https://decidetotribe.com/event/september-tribe-x-masters-exclusive-guest-invite/
LOCATION:TribeHouse\, 1064 S N County Blvd Suite 100\, Pleasant Grove\, UT\, 84062\, United States
CATEGORIES:PowerTribes,TribeX
ATTACH;FMTTYPE=image/jpeg:https://decidetotribe.com/wp-content/uploads/2023/04/Tribe-X-scaled.jpg
ORGANIZER;CN="TribeHouse":MAILTO:events@tribehouse.us
END:VEVENT
BEGIN:VEVENT
DTSTART;TZID=America/Denver:20240820T193000
DTEND;TZID=America/Denver:20240820T213000
DTSTAMP:20260421T092406
CREATED:20240814T202306Z
LAST-MODIFIED:20240814T202820Z
UID:9093-1724182200-1724189400@decidetotribe.com
SUMMARY:Mom's Night Out
DESCRIPTION:We are so excited to see you at our Mom’s Night Out at TribeHouse on Tuesday\, August 20th from 7:30-9:30PM
URL:https://decidetotribe.com/event/momtribe-august/
LOCATION:TribeHouse\, 1064 S N County Blvd Suite 100\, Pleasant Grove\, UT\, 84062\, United States
CATEGORIES:PowerTribes,TribeX
ATTACH;FMTTYPE=image/jpeg:https://decidetotribe.com/wp-content/uploads/2024/04/shutterstock_729150526-scaled.jpg
ORGANIZER;CN="TribeHouse":MAILTO:events@tribehouse.us
END:VEVENT
BEGIN:VEVENT
DTSTART;TZID=America/Denver:20240814T080000
DTEND;TZID=America/Denver:20240814T100000
DTSTAMP:20260421T092406
CREATED:20240612T150721Z
LAST-MODIFIED:20240809T180052Z
UID:4980-1723622400-1723629600@decidetotribe.com
SUMMARY:August Tribe-X Masters - Exclusive Guest Invite
DESCRIPTION:
URL:https://decidetotribe.com/event/august-tribe-x-masters/
LOCATION:TribeHouse\, 1064 S N County Blvd Suite 100\, Pleasant Grove\, UT\, 84062\, United States
CATEGORIES:PowerTribes,TribeX
ATTACH;FMTTYPE=image/jpeg:https://decidetotribe.com/wp-content/uploads/2023/04/Tribe-X-scaled.jpg
ORGANIZER;CN="TribeHouse":MAILTO:events@tribehouse.us
END:VEVENT
BEGIN:VEVENT
DTSTART;TZID=America/Denver:20240710T080000
DTEND;TZID=America/Denver:20240710T100000
DTSTAMP:20260421T092406
CREATED:20240612T150340Z
LAST-MODIFIED:20240612T150340Z
UID:4977-1720598400-1720605600@decidetotribe.com
SUMMARY:July Tribe-X Masters - Exclusive Guest Invite
DESCRIPTION:
URL:https://decidetotribe.com/event/july-tribe-x-masters-exclusive-guest-invite/
LOCATION:TribeHouse\, 1064 S N County Blvd Suite 100\, Pleasant Grove\, UT\, 84062\, United States
CATEGORIES:PowerTribes,TribeX
ATTACH;FMTTYPE=image/jpeg:https://decidetotribe.com/wp-content/uploads/2023/04/Tribe-X-scaled.jpg
ORGANIZER;CN="TribeHouse":MAILTO:events@tribehouse.us
END:VEVENT
BEGIN:VEVENT
DTSTART;TZID=America/Denver:20240612T080000
DTEND;TZID=America/Denver:20240612T100000
DTSTAMP:20260421T092406
CREATED:20240528T203749Z
LAST-MODIFIED:20240528T203843Z
UID:3246-1718179200-1718186400@decidetotribe.com
SUMMARY:June Tribe-X Masters - Exclusive Guest Invite
DESCRIPTION:
URL:https://decidetotribe.com/event/june-tribe-x-masters-exclusive-guest-invite/
LOCATION:TribeHouse\, 1064 S N County Blvd Suite 100\, Pleasant Grove\, UT\, 84062\, United States
CATEGORIES:PowerTribes,TribeX
ATTACH;FMTTYPE=image/jpeg:https://decidetotribe.com/wp-content/uploads/2023/04/Tribe-X-scaled.jpg
ORGANIZER;CN="TribeHouse":MAILTO:events@tribehouse.us
END:VEVENT
BEGIN:VEVENT
DTSTART;TZID=America/Denver:20240516T080000
DTEND;TZID=America/Denver:20240516T100000
DTSTAMP:20260421T092406
CREATED:20240326T143639Z
LAST-MODIFIED:20240326T143639Z
UID:3071-1715846400-1715853600@decidetotribe.com
SUMMARY:May Tribe-X Masters - Exclusive Guest Invite
DESCRIPTION:
URL:https://decidetotribe.com/event/may-tribe-x-masters-exclusive-guest-invite/
LOCATION:TribeHouse\, 1064 S N County Blvd Suite 100\, Pleasant Grove\, UT\, 84062\, United States
CATEGORIES:PowerTribes,TribeX
ATTACH;FMTTYPE=image/jpeg:https://decidetotribe.com/wp-content/uploads/2023/04/Tribe-X-scaled.jpg
ORGANIZER;CN="TribeHouse":MAILTO:events@tribehouse.us
END:VEVENT
BEGIN:VEVENT
DTSTART;TZID=America/Denver:20240423T193000
DTEND;TZID=America/Denver:20240423T213000
DTSTAMP:20260421T092406
CREATED:20240408T161003Z
LAST-MODIFIED:20240408T185411Z
UID:3090-1713900600-1713907800@decidetotribe.com
SUMMARY:MomTribe Launch
DESCRIPTION:
URL:https://decidetotribe.com/event/momtribe-launch/
LOCATION:TribeHouse\, 1064 S N County Blvd Suite 100\, Pleasant Grove\, UT\, 84062\, United States
CATEGORIES:PowerTribes,TribeX
ATTACH;FMTTYPE=image/jpeg:https://decidetotribe.com/wp-content/uploads/2024/04/shutterstock_729150526-scaled.jpg
ORGANIZER;CN="TribeHouse":MAILTO:events@tribehouse.us
END:VEVENT
BEGIN:VEVENT
DTSTART;TZID=America/Denver:20240313T080000
DTEND;TZID=America/Denver:20240313T100000
DTSTAMP:20260421T092406
CREATED:20240226T175201Z
LAST-MODIFIED:20240226T175201Z
UID:3042-1710316800-1710324000@decidetotribe.com
SUMMARY:March Tribe-X Masters - Exclusive Guest Invite
DESCRIPTION:
URL:https://decidetotribe.com/event/march-tribe-x-masters-exclusive-guest-invite/
LOCATION:TribeHouse\, 1064 S N County Blvd Suite 100\, Pleasant Grove\, UT\, 84062\, United States
CATEGORIES:PowerTribes,TribeX
ATTACH;FMTTYPE=image/jpeg:https://decidetotribe.com/wp-content/uploads/2023/04/Tribe-X-scaled.jpg
ORGANIZER;CN="TribeHouse":MAILTO:events@tribehouse.us
END:VEVENT
BEGIN:VEVENT
DTSTART;TZID=America/Denver:20240305T190000
DTEND;TZID=America/Denver:20240305T203000
DTSTAMP:20260421T092406
CREATED:20240226T174340Z
LAST-MODIFIED:20240226T174531Z
UID:3039-1709665200-1709670600@decidetotribe.com
SUMMARY:DreamBig
DESCRIPTION:
URL:https://decidetotribe.com/event/dreambig/
LOCATION:TribeHouse\, 1064 S N County Blvd Suite 100\, Pleasant Grove\, UT\, 84062\, United States
CATEGORIES:PowerTribes,TribeX
ATTACH;FMTTYPE=image/jpeg:https://decidetotribe.com/wp-content/uploads/2024/02/DreamBig-Logos_DREAMBIG-LOGOMARK-1E2D44.jpg
ORGANIZER;CN="TribeHouse":MAILTO:events@tribehouse.us
END:VEVENT
BEGIN:VEVENT
DTSTART;TZID=America/Denver:20240222T080000
DTEND;TZID=America/Denver:20240222T100000
DTSTAMP:20260421T092406
CREATED:20240119T211705Z
LAST-MODIFIED:20240119T211705Z
UID:3010-1708588800-1708596000@decidetotribe.com
SUMMARY:February Tribe-X Masters - Exclusive Guest Invite
DESCRIPTION:
URL:https://decidetotribe.com/event/february-tribe-x-masters-exclusive-guest-invite/
LOCATION:TribeHouse\, 1064 S N County Blvd Suite 100\, Pleasant Grove\, UT\, 84062\, United States
CATEGORIES:PowerTribes,TribeX
ATTACH;FMTTYPE=image/jpeg:https://decidetotribe.com/wp-content/uploads/2023/04/Tribe-X-scaled.jpg
ORGANIZER;CN="TribeHouse":MAILTO:events@tribehouse.us
END:VEVENT
BEGIN:VEVENT
DTSTART;TZID=America/Denver:20240117T080000
DTEND;TZID=America/Denver:20240117T100000
DTSTAMP:20260421T092406
CREATED:20231212T164120Z
LAST-MODIFIED:20231215T171439Z
UID:2988-1705478400-1705485600@decidetotribe.com
SUMMARY:January Tribe-X Masters - Exclusive Guest Invite
DESCRIPTION:
URL:https://decidetotribe.com/event/january-tribe-x-masters/
LOCATION:TribeHouse\, 1064 S N County Blvd Suite 100\, Pleasant Grove\, UT\, 84062\, United States
CATEGORIES:PowerTribes,TribeX
ATTACH;FMTTYPE=image/jpeg:https://decidetotribe.com/wp-content/uploads/2023/04/Tribe-X-scaled.jpg
ORGANIZER;CN="TribeHouse":MAILTO:events@tribehouse.us
END:VEVENT
BEGIN:VEVENT
DTSTART;TZID=America/Denver:20231206T080000
DTEND;TZID=America/Denver:20231206T100000
DTSTAMP:20260421T092406
CREATED:20231115T191037Z
LAST-MODIFIED:20231115T221133Z
UID:2953-1701849600-1701856800@decidetotribe.com
SUMMARY:December Tribe-X Masters
DESCRIPTION:
URL:https://decidetotribe.com/event/december-tribe-x-masters/
LOCATION:TribeHouse\, 1064 S N County Blvd Suite 100\, Pleasant Grove\, UT\, 84062\, United States
CATEGORIES:PowerTribes,TribeX
ATTACH;FMTTYPE=image/jpeg:https://decidetotribe.com/wp-content/uploads/2023/04/Tribe-X-scaled.jpg
ORGANIZER;CN="TribeHouse":MAILTO:events@tribehouse.us
END:VEVENT
BEGIN:VEVENT
DTSTART;TZID=America/Denver:20231025T190000
DTEND;TZID=America/Denver:20231025T220000
DTSTAMP:20260421T092406
CREATED:20231004T161644Z
LAST-MODIFIED:20231004T161644Z
UID:2866-1698260400-1698271200@decidetotribe.com
SUMMARY:BuildTribe Casino Night
DESCRIPTION:
URL:https://decidetotribe.com/event/buildtribe-casino-night/
LOCATION:TribeHouse\, 1064 S N County Blvd Suite 100\, Pleasant Grove\, UT\, 84062\, United States
CATEGORIES:PowerTribes,TribeX
ATTACH;FMTTYPE=image/jpeg:https://decidetotribe.com/wp-content/uploads/2023/10/casino.jpeg
ORGANIZER;CN="TribeHouse":MAILTO:events@tribehouse.us
END:VEVENT
BEGIN:VEVENT
DTSTART;TZID=America/Denver:20231010T080000
DTEND;TZID=America/Denver:20231010T100000
DTSTAMP:20260421T092406
CREATED:20230809T141527Z
LAST-MODIFIED:20230809T141527Z
UID:2255-1696924800-1696932000@decidetotribe.com
SUMMARY:October Tribe-X Masters
DESCRIPTION:
URL:https://decidetotribe.com/event/october-tribe-x-masters/
LOCATION:TribeHouse\, 1064 S N County Blvd Suite 100\, Pleasant Grove\, UT\, 84062\, United States
CATEGORIES:PowerTribes,TribeX
ATTACH;FMTTYPE=image/jpeg:https://decidetotribe.com/wp-content/uploads/2023/04/Tribe-X-scaled.jpg
ORGANIZER;CN="TribeHouse":MAILTO:events@tribehouse.us
END:VEVENT
BEGIN:VEVENT
DTSTART;TZID=America/Denver:20230920T080000
DTEND;TZID=America/Denver:20230920T100000
DTSTAMP:20260421T092406
CREATED:20230809T140724Z
LAST-MODIFIED:20230809T140724Z
UID:2252-1695196800-1695204000@decidetotribe.com
SUMMARY:September Tribe-X Masters
DESCRIPTION:
URL:https://decidetotribe.com/event/september-tribe-x-masters/
LOCATION:TribeHouse\, 1064 S N County Blvd Suite 100\, Pleasant Grove\, UT\, 84062\, United States
CATEGORIES:PowerTribes,TribeX
ATTACH;FMTTYPE=image/jpeg:https://decidetotribe.com/wp-content/uploads/2023/04/Tribe-X-scaled.jpg
ORGANIZER;CN="TribeHouse":MAILTO:events@tribehouse.us
END:VEVENT
BEGIN:VEVENT
DTSTART;TZID=America/Denver:20230817T080000
DTEND;TZID=America/Denver:20230817T100000
DTSTAMP:20260421T092406
CREATED:20230804T023819Z
LAST-MODIFIED:20240809T175947Z
UID:2196-1692259200-1692266400@decidetotribe.com
SUMMARY:August Tribe-X Masters
DESCRIPTION:
URL:https://decidetotribe.com/event/august-tribe-x-masters-2023/
LOCATION:TribeHouse\, 1064 S N County Blvd Suite 100\, Pleasant Grove\, UT\, 84062\, United States
CATEGORIES:PowerTribes,TribeX
ATTACH;FMTTYPE=image/jpeg:https://decidetotribe.com/wp-content/uploads/2023/04/Tribe-X-scaled.jpg
ORGANIZER;CN="TribeHouse":MAILTO:events@tribehouse.us
END:VEVENT
END:VCALENDAR